BEGIN:VCALENDAR
VERSION:2.0
PRODID:-//TripleMinds - ECPv5.14.1//NONSGML v1.0//EN
CALSCALE:GREGORIAN
METHOD:PUBLISH
X-WR-CALNAME:TripleMinds
X-ORIGINAL-URL:https://triple-minds.com
X-WR-CALDESC:Events for TripleMinds
BEGIN:VTIMEZONE
TZID:UTC
BEGIN:STANDARD
TZOFFSETFROM:+0000
TZOFFSETTO:+0000
TZNAME:UTC
DTSTART:20200101T000000
END:STANDARD
END:VTIMEZONE
BEGIN:VEVENT
DTSTART;TZID=UTC:20200227T100000
DTEND;TZID=UTC:20200227T233000
DTSTAMP:20260421T084558
CREATED:20200128T092523Z
LAST-MODIFIED:20210222T104750Z
UID:1743-1582797600-1582846200@triple-minds.com
SUMMARY:Webinar: 5 Winning Steps to Find the Right Donors
DESCRIPTION:5 Winning Steps to Find the Right Donors\nDate: 27 February 2020\nTime: 10:00-11:30am Vienna time (CET) – convert to your time zone here\nLocation: online event (you need Internet access)\nPrice: 39€ incl. 1 month access to TripleFunds \n  \n  \nIn today´s fundraising world there are thousands of donors around giving billions of dollars for charitable causes. Money seems to be lying around everywhere but the question is: how to find the needle in the haystack or in other words the perfect donor for YOU? If you don´t have the right strategy\, you might spend lots of time\, energy and resources on approaching the wrong donors with the wrong project idea. \nAs we have seen many of our partner NGOs and clients doing similar mistakes\, we are offering this webinar to teach you 5 easy steps to find the right donor for your project or program. It is crucial to have a strategy in your donor search as otherwise you might get lost and overwhelmed in the large donor landscape. We will equip you with the right tools to identify the most suitable donors for your own purpose and own organisational profile. After the webinar\, you can use and apply these tools immediately and start your own donor mapping exercise. If you have challenges or questions to put it into practice\, you are most welcome (also after the webinar) to send your questions to us. \n  \nIn this live webinar you will learn: \n\nhow to match your own organisational profile with the most suitable donors\nhow and where to carry out donor research\nhow and where to network with and approach these donors\n\n  \nWhat you get: \n\n1 live webinar session: 60 minutes presentation and 30 minutes Q&A session\n3 templates for the tools that we present\n1 audio recording after the webinar in case you cannot attend\n1 month free access to our online funding database TripleFunds with over 4\,000 grants and donors at the value of 39€ (Mini membership)\n\n  \nIt is suitable for: \n\nsmall and large NGOs (CBOs\, grass roots\, etc.)\nlocal and international NGOs\nsocial businesses\nstudents and researchers\nfundraisers\nfor both beginners and advanced levels\n…anybody who is interested in grant seeking and donor research\n\n  \nHow to book a seat: \n\nYou can pay online with credit card or PayPal here\nYou can send us an email to office(a)triple-minds.com in case you prefer bank transfer\n\n  \nIf you have some questions\, please email us at office(a)triple-minds.com.
URL:https://triple-minds.com/training-offer/webinar-5-winning-steps-to-find-the-right-donors/
CATEGORIES:fundraising
ATTACH;FMTTYPE=image/png:https://triple-minds.com/wp-content/uploads/2020/01/Lupe.png
END:VEVENT
END:VCALENDAR