BEGIN:VCALENDAR
VERSION:2.0
PRODID:-//TripleMinds - ECPv5.14.1//NONSGML v1.0//EN
CALSCALE:GREGORIAN
METHOD:PUBLISH
X-WR-CALNAME:TripleMinds
X-ORIGINAL-URL:https://triple-minds.com
X-WR-CALDESC:Events for TripleMinds
BEGIN:VTIMEZONE
TZID:UTC
BEGIN:STANDARD
TZOFFSETFROM:+0000
TZOFFSETTO:+0000
TZNAME:UTC
DTSTART:20240101T000000
END:STANDARD
END:VTIMEZONE
BEGIN:VEVENT
DTSTART;VALUE=DATE:20241231
DTEND;VALUE=DATE:20260101
DTSTAMP:20260421T084906
CREATED:20181104T135700Z
LAST-MODIFIED:20250425T063243Z
UID:799-1735603200-1767225599@triple-minds.com
SUMMARY:Mastering the art of proposal writing
DESCRIPTION:Would you like to know more about writing winning grant proposals – a quick introduction or a more in-depth reflection?\nWould you like to improve your writing skills for fundraising from institutional donors?\nOr simply know how to attract foundation grants with a compelling case? \n  \nWe can assist you with an in-house training that is tailored to the needs and interests of your organisation. No matter where you are based\, we are happy to work with you in English\, German or Spanish. \n  \nSome of the topics that may be covered: \n\nKey principles in preparing concept notes and full proposals for institutional donors\nMain differences between institutional donors and foundations\nThe story telling approach: the balanced use of rational and emotional elements\nHow to create compelling proposal elements: cover letter\, executive summary\, statement of need\, project description\, budget\, and organisation capacity\nUsing donor feedback for organisational learning\nLearnings from our own experiences of the past 20 years\n\n  \nApplication procedure: \nYou may book online using our training enquiry format at the bottom of the page\, call us for more details at +43 676 941 88 99 or simply send us an email: office@triple-minds.com.
URL:https://triple-minds.com/training-offer/proposal_writing/
CATEGORIES:in-house
ATTACH;FMTTYPE=image/jpeg:https://triple-minds.com/wp-content/uploads/2018/11/Lady-Africa-Yellow.jpg
END:VEVENT
END:VCALENDAR