BEGIN:VCALENDAR
VERSION:2.0
PRODID:-//TripleMinds - ECPv5.14.1//NONSGML v1.0//EN
CALSCALE:GREGORIAN
METHOD:PUBLISH
X-WR-CALNAME:TripleMinds
X-ORIGINAL-URL:https://triple-minds.com
X-WR-CALDESC:Events for TripleMinds
BEGIN:VTIMEZONE
TZID:UTC
BEGIN:STANDARD
TZOFFSETFROM:+0000
TZOFFSETTO:+0000
TZNAME:UTC
DTSTART:20190101T000000
END:STANDARD
END:VTIMEZONE
BEGIN:VEVENT
DTSTART;TZID=UTC:20190605T100000
DTEND;TZID=UTC:20190605T113000
DTSTAMP:20260421T101008
CREATED:20190528T075531Z
LAST-MODIFIED:20210222T104750Z
UID:1580-1559728800-1559734200@triple-minds.com
SUMMARY:Live webinar: The Logframe Approach
DESCRIPTION:This webinar asks the question: how do I plan a development project and what does it take to arrive at a good project design? Therefore\, it introduces the different steps of the Logframe Approach (LFA)\, the most common planning approach for development projects. We will explain how to work out a stakeholder and problem analysis and define our project strategy. The course participants will also learn a wide range of community based assessment methods\, tools and approaches. \n  \nWhen: 5 June 2019\, 10:00 CEST\nWhere: online\nCosts: €29.- including 14 days access to TripleFunds (4\,000 grants and donors)\nTraining facilitator: Lisa Ringhofer (TripleMinds) \nYou can book your seat online or via email to lisa.ringhofer@triple-minds.com. \n  \nContent: \n\nThe big picture: PCM and the Logframe Approach (LFA)\nThe analysis stage: assessing needs\, stakeholder analysis\, problem and objective analysis\nThe planning stage: the Logframe matrix: the different columns\nReflections on the Logframe and the Theory of Change (ToC): commonalities and differences\n\n  \nThe training will therefore help you to:\n \nUnderstand the Logframe and its role in project/programme planning and monitoring\nIncrease your analytical planning skills\nDevelop your own Logframe\nVisualise your Logframe and quality check\nAvoid common pitfalls \n\n  \nYou don´t have time or you are located in a different time zone? No problem – we are recording the webinar and the audio will be sent to you after the webinar as well as the power point presentation. \n  \n\nAbout the instructor: \nThis training will be delivered by Lisa Ringhofer. \nLisa Ringhofer is the Co-Founder of TripleMinds and has over 17 years of extensive participatory field experience in development cooperation and research. Lisa has developed\, monitored and evaluated development programmes and projects in several countries across the globe. She speaks German\, English\, Spanish and Portuguese.
URL:https://triple-minds.com/training-offer/live-webinar-the-logframe-approach/
CATEGORIES:programme development
ATTACH;FMTTYPE=image/jpeg:https://triple-minds.com/wp-content/uploads/2019/02/bill-wegener-601508-unsplash.jpg
END:VEVENT
END:VCALENDAR