BEGIN:VCALENDAR
VERSION:2.0
PRODID:-//TripleMinds - ECPv5.14.1//NONSGML v1.0//EN
CALSCALE:GREGORIAN
METHOD:PUBLISH
X-WR-CALNAME:TripleMinds
X-ORIGINAL-URL:https://triple-minds.com
X-WR-CALDESC:Events for TripleMinds
BEGIN:VTIMEZONE
TZID:UTC
BEGIN:STANDARD
TZOFFSETFROM:+0000
TZOFFSETTO:+0000
TZNAME:UTC
DTSTART:20240101T000000
END:STANDARD
END:VTIMEZONE
BEGIN:VEVENT
DTSTART;TZID=UTC:20241231T080000
DTEND;TZID=UTC:20251231T170000
DTSTAMP:20260421T114355
CREATED:20190127T025103Z
LAST-MODIFIED:20250425T063049Z
UID:1257-1735632000-1767200400@triple-minds.com
SUMMARY:Impact measurement essentials
DESCRIPTION:Would you like to design\, commission or undertake an impact study or evaluation? Or simply know about the different types and approaches to be used to assess impact? \n\n  \nWe can assist you with an in-house training that is tailored to the needs and interests of your organisation. No matter where you are based\, we are happy to work with you in English\, German or Spanish. \n  \nSome of the topics that may be covered: \n\nUnderstanding the big picture: principles\, methods and emerging trends\nImpact assessment as part of your project’s life cycle\nHow to write Terms of References for commissioning an impact study\nIdentifying impact: understanding outcomes and conducting robust qualitative research\nDesigning your own impact study based on your own Theory of Change\nApplying different participatory (and easy to use!) impact measurement methods and tools\nLearning from our (and your!) practical experience\n\n  \nApplication procedure: \nYou may book online using our training enquiry format at the bottom of the page\, call us for more details at +43 676 941 88 99 or simply send us an email: office@triple-minds.com.
URL:https://triple-minds.com/training-offer/impact-measurement-essentials/
CATEGORIES:in-house
ATTACH;FMTTYPE=image/jpeg:https://triple-minds.com/wp-content/uploads/2018/11/Webinar-Gender.jpg
END:VEVENT
END:VCALENDAR