BEGIN:VCALENDAR
VERSION:2.0
PRODID:-//TripleMinds - ECPv5.14.1//NONSGML v1.0//EN
CALSCALE:GREGORIAN
METHOD:PUBLISH
X-WR-CALNAME:TripleMinds
X-ORIGINAL-URL:https://triple-minds.com
X-WR-CALDESC:Events for TripleMinds
BEGIN:VTIMEZONE
TZID:UTC
BEGIN:STANDARD
TZOFFSETFROM:+0000
TZOFFSETTO:+0000
TZNAME:UTC
DTSTART:20190101T000000
END:STANDARD
END:VTIMEZONE
BEGIN:VEVENT
DTSTART;TZID=UTC:20190101T000000
DTEND;TZID=UTC:20191231T235900
DTSTAMP:20260421T113202
CREATED:20181104T130735Z
LAST-MODIFIED:20190122T042503Z
UID:780-1546300800-1577836740@triple-minds.com
SUMMARY:Theory of Change Essentials
DESCRIPTION:Would you like to know more about Theory of Change approaches – a quick introduction or a more in-depth reflection?\nWould you like to develop one for your organisation and need a facilitator to guide you through the steps? \n  \nWe can assist you with an in-house training that is tailored to the needs and interests of your organisation. No matter where you are based\, we are happy to work with you in English\, German or Spanish. \n  \nSome of the topics that may be covered: \n\nThe big picture: ToC and its role in project/programme planning and evaluation\nToC in relation to other models (logic models\, Logframes\, results chains)\nDeveloping your ToC (collecting theory of change data: engaging with stakeholders)\nVisualising your ToC and quality check\n\n  \nApplication procedure: \nYou may book online using our training enquiry format at the bottom of the page\, call us for more details at +43 676 941 88 99 or simply send us an email: office@triple-minds.com.
URL:https://triple-minds.com/training-offer/creating-a-theory-of-change/
CATEGORIES:in-house
ATTACH;FMTTYPE=image/jpeg:https://triple-minds.com/wp-content/uploads/2018/07/farmer-1807522_640.jpg
END:VEVENT
END:VCALENDAR