BEGIN:VCALENDAR
VERSION:2.0
PRODID:-//TripleMinds - ECPv5.14.1//NONSGML v1.0//EN
CALSCALE:GREGORIAN
METHOD:PUBLISH
X-WR-CALNAME:TripleMinds
X-ORIGINAL-URL:https://triple-minds.com
X-WR-CALDESC:Events for TripleMinds
BEGIN:VTIMEZONE
TZID:UTC
BEGIN:STANDARD
TZOFFSETFROM:+0000
TZOFFSETTO:+0000
TZNAME:UTC
DTSTART:20190101T000000
END:STANDARD
END:VTIMEZONE
BEGIN:VEVENT
DTSTART;VALUE=DATE:20190312
DTEND;VALUE=DATE:20190314
DTSTAMP:20260421T100228
CREATED:20181104T131302Z
LAST-MODIFIED:20210222T104751Z
UID:787-1552348800-1552521599@triple-minds.com
SUMMARY:Creating a Theory of Change - An Introduction
DESCRIPTION:For organisations keen to improve their impact\, developing a theory of change is a good starting point. Such a theory of change is a powerful tool that helps organisations and initiatives plan how they will create change\, assess their effectiveness and communicate to stakeholders. Growing in popularity over the last decade\, it is now used widely by charities\, social enterprises\, the public sector and gradually even by mainstream businesses who are recognising its potential. \nDuring this two-day workshop we therefore explore what a theory of change is\, how to construct one and best practice in conducting robust qualitative research. \n  \nWhen: 12. & 13. März 2019\, 9 am to 5:00 pm\nWhere: Seminarzentrum Pallottihaus\, Auhofstraße 10\, 1130 Vienna\, Austria\nCosts: €495.- (incl. lunch\, refreshments and documentation)/€395.- for TripleFunds members (20% discount)\nTraining facilitators: Karin Kohlweg (pme Kohlweg Consulting) / Lisa Ringhofer (TripleMinds) \n  \nContent: \n\nThe big picture: understanding how change happens\nOutcome talk: theory of change and other impact formats\nCollecting theory of change data: engaging with stakeholders\nUsing appropriate tools and processes at each stage of developing the theory of change\nDeveloping a change pathway\nUsing theories of change by organisations for M&E and to demonstrate impact\n\n  \nThe training will therefore help you to:\n \nUnderstand the big picture: ToC and its role in project/programme planning and evaluation\nEmbed ToC in relation to other models (logic models\, Logframes\, results chains)\nDevelop your own ToC (collecting theory of change data: engaging with stakeholders)\nVisualise your ToC and quality check\nAvoid common pitfalls \n  \nIf you have a project in mind\, the course will offer the opportunity to map out YOUR theory and gain feedback. \n  \nWith a group size of no more than 15\, the workshop will be interactive and hands-on. Lunch and refreshments will be provided. The workshop will be held in English. You can register for the workshop either online (by filling out the form below) or via email to lisa.ringhofer@triple-minds.com. The workshop will only take place with a minimum of 5 participants. \n  \nAbout the instructors: \nThis training will be delivered by Karin Kohlweg and Lisa Ringhofer. \nKarin Kohlweg is a monitoring and evaluation specialist with more than fifteen years of experience in development. She has extensive experience in planning\, managing and implementing different types of evaluations\, reviews studies\, and meta-analysis in various sectors and topics. Karin was the Head of Evaluation of the Austrian Development Agency\, has worked for UNICEF Bangladesch\, UNICEF Nepal\, at the Department of Sociology and Social Anthropology in Nürnberg\, Germany and has recently founded her own company „pme Kohlweg Consulting“. \nLisa Ringhofer is the Co-Founder of TripleMinds and has over 15 years of extensive participatory field experience in development cooperation and research. She holds an M.A. in Development Studies\, an MBA and a PhD in Sociology/Social Ecology. Lisa has developed\, monitored and evaluated development programmes and projects in several countries across the globe. She speaks German\, English\, Spanish and Portuguese.
URL:https://triple-minds.com/training-offer/creating-a-theory-of-change-introduction/
LOCATION:Seminarzentrum Pallottihaus\, Auhofstrasse 10\, Vienna\, 1130\, Austria
CATEGORIES:programme development
ATTACH;FMTTYPE=image/jpeg:https://triple-minds.com/wp-content/uploads/2018/08/How-to-write-a-proposal-for-foundations.jpg
END:VEVENT
END:VCALENDAR